BEGIN:VCALENDAR
VERSION:2.0
PRODID:-//Korea Hapkido Federation - ECPv6.15.20//NONSGML v1.0//EN
CALSCALE:GREGORIAN
METHOD:PUBLISH
X-WR-CALNAME:Korea Hapkido Federation
X-ORIGINAL-URL:https://koreahapkidofederation.com
X-WR-CALDESC:Events for Korea Hapkido Federation
REFRESH-INTERVAL;VALUE=DURATION:PT1H
X-Robots-Tag:noindex
X-PUBLISHED-TTL:PT1H
BEGIN:VTIMEZONE
TZID:America/Indiana/Knox
BEGIN:DAYLIGHT
TZOFFSETFROM:-0600
TZOFFSETTO:-0500
TZNAME:CDT
DTSTART:20220313T080000
END:DAYLIGHT
BEGIN:STANDARD
TZOFFSETFROM:-0500
TZOFFSETTO:-0600
TZNAME:CST
DTSTART:20221106T070000
END:STANDARD
BEGIN:DAYLIGHT
TZOFFSETFROM:-0600
TZOFFSETTO:-0500
TZNAME:CDT
DTSTART:20230312T080000
END:DAYLIGHT
BEGIN:STANDARD
TZOFFSETFROM:-0500
TZOFFSETTO:-0600
TZNAME:CST
DTSTART:20231105T070000
END:STANDARD
BEGIN:DAYLIGHT
TZOFFSETFROM:-0600
TZOFFSETTO:-0500
TZNAME:CDT
DTSTART:20240310T080000
END:DAYLIGHT
BEGIN:STANDARD
TZOFFSETFROM:-0500
TZOFFSETTO:-0600
TZNAME:CST
DTSTART:20241103T070000
END:STANDARD
END:VTIMEZONE
BEGIN:VTIMEZONE
TZID:America/Chicago
BEGIN:DAYLIGHT
TZOFFSETFROM:-0600
TZOFFSETTO:-0500
TZNAME:CDT
DTSTART:20220313T080000
END:DAYLIGHT
BEGIN:STANDARD
TZOFFSETFROM:-0500
TZOFFSETTO:-0600
TZNAME:CST
DTSTART:20221106T070000
END:STANDARD
BEGIN:DAYLIGHT
TZOFFSETFROM:-0600
TZOFFSETTO:-0500
TZNAME:CDT
DTSTART:20230312T080000
END:DAYLIGHT
BEGIN:STANDARD
TZOFFSETFROM:-0500
TZOFFSETTO:-0600
TZNAME:CST
DTSTART:20231105T070000
END:STANDARD
BEGIN:DAYLIGHT
TZOFFSETFROM:-0600
TZOFFSETTO:-0500
TZNAME:CDT
DTSTART:20240310T080000
END:DAYLIGHT
BEGIN:STANDARD
TZOFFSETFROM:-0500
TZOFFSETTO:-0600
TZNAME:CST
DTSTART:20241103T070000
END:STANDARD
END:VTIMEZONE
BEGIN:VEVENT
DTSTART;TZID=America/Indiana/Knox:20230506T100000
DTEND;TZID=America/Indiana/Knox:20230506T160000
DTSTAMP:20260420T211115
CREATED:20230309T211010Z
LAST-MODIFIED:20230317T183717Z
UID:577-1683367200-1683388800@koreahapkidofederation.com
SUMMARY:GM Myung Yong Kim Seminar
DESCRIPTION:GM MYUNG YONG KIM\nKHF USA ADVISOR AND GRANDMASTER \nULTIMATE MARTIAL ARTS & KICKBOXING\n302 WHITE HORSE PIKE • ATCO\, NJ 08004 \nREGISTER HERE: https://atcomartialarts.com/event/gm-kim/ \n——————————————————– \nREGISTRATION FEE OF $129 INCLUDES\n6 HOUR SEMINAR FOR BLACK BELTS AND ADULTS \n——————————————————– \nJUNIOR SESSION – KIDS 7 AND UP\, COLORED BELTS\n10am – 12pm ONLY $49 \n——————————————————– \nLODGING AVAILABLE AT:\nHAMPTON INN PHILADELPHIA/VOORHEES\nHOLIDAY INN EXPRESS VOORHEES-MT. LAUREL\nSPRING HILL SUITES BY MARIOTT VOORHEES
URL:https://koreahapkidofederation.com/event/gm-myung-yong-kim-seminar/
LOCATION:Ultimate Martial Arts & Kickboxing Atco\, 302 White Horse Pike\, Atco\, NJ\, 08004\, United States
ATTACH;FMTTYPE=image/jpeg:https://koreahapkidofederation.com/wp-content/uploads/2023/03/MYUNG-YONG-KIM-Seminar-Flyer.jpg
END:VEVENT
BEGIN:VEVENT
DTSTART;TZID=America/Indiana/Knox:20230318T100000
DTEND;TZID=America/Indiana/Knox:20230318T140000
DTSTAMP:20260420T211115
CREATED:20230302T151724Z
LAST-MODIFIED:20230313T190916Z
UID:396-1679133600-1679148000@koreahapkidofederation.com
SUMMARY:Shin Ki Kwan Seminar
DESCRIPTION:Join us for an exciting day of in depth Hapkido training.  Subjects include: \n\nFundamental Core Skills\nGround Defenses\nKick Defenses\nSignature Hook Kicks\n\nRegister here: https://cp.mystudio.io/e/?=IronDragon/6727/436870//1676567625
URL:https://koreahapkidofederation.com/event/shin-ki-kwan-seminar/
LOCATION:Iron Dragon Martial Arts\, 88-10 Dunning Rd.\, Middletown\, NY\, 10940\, United States
ATTACH;FMTTYPE=image/jpeg:https://koreahapkidofederation.com/wp-content/uploads/2023/03/334224935_5947535152033294_8563528225240946918_n.jpg
END:VEVENT
BEGIN:VEVENT
DTSTART;TZID=America/Chicago:20230224T090000
DTEND;TZID=America/Chicago:20230225T170000
DTSTAMP:20260420T211115
CREATED:20230213T200207Z
LAST-MODIFIED:20230213T200341Z
UID:124-1677229200-1677344400@koreahapkidofederation.com
SUMMARY:2023 KHF Master's Course
DESCRIPTION:History in the Making\n\n\n\n\n\nThe 2023 Korea Hapkido Federation Masters Course USA will be held at the Hilton Penns Landing in historic Philadelphia\, PA USA on FRIDAY\, FEB 24 & SATURDAY\, FEB 25 2023. \n*ALL KWANS & STYLES OF HAPKIDO ARE INVITED* \n~~~~~~~~~~~~~~~~~~~~~~~~~~~~ \n1st and 2nd Dans may register and receive an Official KHF Certificate of Participation! \n~~~~~~~~~~~~~~~~~~~~~~~~~~~~ \n3rd Dans and Above will have the opportunity to earn their Official KHF Masters Course Certificate of Completion. \n~~~~~~~~~~~~~~~~~~~~~~~~~~~~ \nSpacing is limited to first 100 only! \nREGISTER HERE: https://atcomartialarts.com/khf \n~~~~~~~~~~~~~~~~~~~~~~~~~~~~ \nWhat is Included?\n– 2 Full Days of Training with KHF Top Officials and Top Masters \n– Either Participation or Masters Course Certification upon completion \n– Commemorative Masters Course Shirt \n– Special Perks Day of Event \n– Networking with Hapkido Elite \n– Professional Photographer at Event \n– Certificate Ceremony on Saturday \n– Enjoy Historic Philadelphia!
URL:https://koreahapkidofederation.com/event/2023-khf-masters-course/
LOCATION:Hilton Penn’s Landing\, 201 S Christopher Columbus Blvd\, Philadelphia\, PA\, 19106\, United States
ORGANIZER;CN="KHF America":MAILTO:ultimateatco@comcast.net
END:VEVENT
END:VCALENDAR