BEGIN:VCALENDAR
VERSION:2.0
PRODID:-//Korea Hapkido Federation - ECPv6.15.20//NONSGML v1.0//EN
CALSCALE:GREGORIAN
METHOD:PUBLISH
X-WR-CALNAME:Korea Hapkido Federation
X-ORIGINAL-URL:https://koreahapkidofederation.com
X-WR-CALDESC:Events for Korea Hapkido Federation
REFRESH-INTERVAL;VALUE=DURATION:PT1H
X-Robots-Tag:noindex
X-PUBLISHED-TTL:PT1H
BEGIN:VTIMEZONE
TZID:America/Indiana/Knox
BEGIN:DAYLIGHT
TZOFFSETFROM:-0600
TZOFFSETTO:-0500
TZNAME:CDT
DTSTART:20220313T080000
END:DAYLIGHT
BEGIN:STANDARD
TZOFFSETFROM:-0500
TZOFFSETTO:-0600
TZNAME:CST
DTSTART:20221106T070000
END:STANDARD
BEGIN:DAYLIGHT
TZOFFSETFROM:-0600
TZOFFSETTO:-0500
TZNAME:CDT
DTSTART:20230312T080000
END:DAYLIGHT
BEGIN:STANDARD
TZOFFSETFROM:-0500
TZOFFSETTO:-0600
TZNAME:CST
DTSTART:20231105T070000
END:STANDARD
BEGIN:DAYLIGHT
TZOFFSETFROM:-0600
TZOFFSETTO:-0500
TZNAME:CDT
DTSTART:20240310T080000
END:DAYLIGHT
BEGIN:STANDARD
TZOFFSETFROM:-0500
TZOFFSETTO:-0600
TZNAME:CST
DTSTART:20241103T070000
END:STANDARD
END:VTIMEZONE
BEGIN:VEVENT
DTSTART;VALUE=DATE:20230722
DTEND;VALUE=DATE:20230724
DTSTAMP:20260424T022045
CREATED:20230712T175448Z
LAST-MODIFIED:20230712T175448Z
UID:1085-1689984000-1690156799@koreahapkidofederation.com
SUMMARY:DoJuNim\, Ji Han Jae Seminar
DESCRIPTION:Special seminar by Dojunim Ji Han Jae in Virginia Beach at :\nKing Tiger Martial Arts\n3300 Holland Road #1110\nVirginia Beach\, VA 23452\n(757) 468-8889\nhttps://www.kingtigermartialarts.com\n\n???? Date: July 22-23\n⏰ 12 hours seminar\nReserve your spot :\nhttps://ktma.info/optin1688756856728\n\n1day pass: $97\n2day: $167\n\nDon’t miss this incredible opportunity to learn from a martial arts legend. Mark your calendars and stay tuned for more details on the event schedule. See you there
URL:https://koreahapkidofederation.com/event/dojunim-ji-han-jae-seminar/
LOCATION:PA
ATTACH;FMTTYPE=image/jpeg:https://koreahapkidofederation.com/wp-content/uploads/2023/07/IMG_4480.jpeg
END:VEVENT
END:VCALENDAR