BEGIN:VCALENDAR
VERSION:2.0
PRODID:-//Korea Hapkido Federation - ECPv6.15.20//NONSGML v1.0//EN
CALSCALE:GREGORIAN
METHOD:PUBLISH
X-WR-CALNAME:Korea Hapkido Federation
X-ORIGINAL-URL:https://koreahapkidofederation.com
X-WR-CALDESC:Events for Korea Hapkido Federation
REFRESH-INTERVAL;VALUE=DURATION:PT1H
X-Robots-Tag:noindex
X-PUBLISHED-TTL:PT1H
BEGIN:VTIMEZONE
TZID:America/Indiana/Knox
BEGIN:DAYLIGHT
TZOFFSETFROM:-0600
TZOFFSETTO:-0500
TZNAME:CDT
DTSTART:20220313T080000
END:DAYLIGHT
BEGIN:STANDARD
TZOFFSETFROM:-0500
TZOFFSETTO:-0600
TZNAME:CST
DTSTART:20221106T070000
END:STANDARD
BEGIN:DAYLIGHT
TZOFFSETFROM:-0600
TZOFFSETTO:-0500
TZNAME:CDT
DTSTART:20230312T080000
END:DAYLIGHT
BEGIN:STANDARD
TZOFFSETFROM:-0500
TZOFFSETTO:-0600
TZNAME:CST
DTSTART:20231105T070000
END:STANDARD
BEGIN:DAYLIGHT
TZOFFSETFROM:-0600
TZOFFSETTO:-0500
TZNAME:CDT
DTSTART:20240310T080000
END:DAYLIGHT
BEGIN:STANDARD
TZOFFSETFROM:-0500
TZOFFSETTO:-0600
TZNAME:CST
DTSTART:20241103T070000
END:STANDARD
END:VTIMEZONE
BEGIN:VEVENT
DTSTART;TZID=America/Indiana/Knox:20231021T090000
DTEND;TZID=America/Indiana/Knox:20231021T160000
DTSTAMP:20260423T223345
CREATED:20230714T201437Z
LAST-MODIFIED:20230714T201437Z
UID:1113-1697878800-1697904000@koreahapkidofederation.com
SUMMARY:IKMAF Fall Gathering 2023
DESCRIPTION:GM Ian Cyrus is hosting his upcoming IKMAF Fall Gathering and will focus on the essence of Yu Shin HapGi Mu Yae:\n1. HapGi Bup (Principles\, Concepts\, Methodologies\, and Strategies-What makes HapGi work) Z\n2. Gum Sool Gi Bon Sool (Swordsmanship Basics) and the related HapGi Bup).\n* These above two (2) aspects is where empty hand skills and swordsmanship informs and is realized as HapGi Bup\n3. Han Uihag (Medicine): The focus of this Gathering is the management of head\, neck and shoulder injuries and syndromes.\nAll are welcome regardless of style.  \nHosted at:\nRiver of Life Dojo\n321 Morris Road\nFt. Washington\, PA 19034 \n$90 registration fee can be Cash App: $Driancyrus\nFor more info contact:\nCall: 267-342-5880\nEmail: ian.cyrus@gmail.com
URL:https://koreahapkidofederation.com/event/ikmaf-fall-gathering-2023/
LOCATION:River of Life Dojo\, 321 Morris Rd\, Ft. Washington\, PA\, 19034\, United States
ATTACH;FMTTYPE=image/jpeg:https://koreahapkidofederation.com/wp-content/uploads/2023/07/ikmaf.jpg
END:VEVENT
BEGIN:VEVENT
DTSTART;VALUE=DATE:20231027
DTEND;VALUE=DATE:20231029
DTSTAMP:20260423T223345
CREATED:20230915T194742Z
LAST-MODIFIED:20230915T194742Z
UID:1291-1698364800-1698537599@koreahapkidofederation.com
SUMMARY:GM Myung Yong Kim Seminar
DESCRIPTION:Don’t miss this opportunity to train with GM Myung Yong Kim\, the top Korean student of DJN Ji Han Jae who created his own kwan in 1967! \nADULTS ONLY:\nFriday\, Oct. 27th from 5 – 8pm\nSaturday\, Oct 28th from 12 – 5pm\nBoth Sessions are only $300!\nKids 7+ Session Saturday\, Oct 18th 11am – 12pm (only $100) \nCALL 615-543-5617 TO REGISTER!\nHosted by:\nKHF Vice Chairman\nRonald Christopher Garland\nExecutive Martial Arts\n6410 Charlotte Pike #107\nNashville\, TN 37209
URL:https://koreahapkidofederation.com/event/gm-myung-yong-kim-seminar-2/
LOCATION:Executive Martial Arts\, 6410 Charlotte Pike\, Nashville\, TN\, 37209\, United States
ATTACH;FMTTYPE=image/jpeg:https://koreahapkidofederation.com/wp-content/uploads/2023/09/378813879_10224635862552842_8732962414395031857_n.jpg
ORGANIZER;CN="KHF America":MAILTO:ultimateatco@comcast.net
END:VEVENT
END:VCALENDAR